BEGIN:VCALENDAR
VERSION:2.0
PRODID:-//Wildboys Afloat Brisbane - ECPv5.0.2.1//NONSGML v1.0//EN
CALSCALE:GREGORIAN
METHOD:PUBLISH
X-WR-CALNAME:Wildboys Afloat Brisbane
X-ORIGINAL-URL:https://www.wildboysafloatbrisbane.com.au
X-WR-CALDESC:Events for Wildboys Afloat Brisbane
BEGIN:VTIMEZONE
TZID:Australia/Brisbane
BEGIN:STANDARD
TZOFFSETFROM:+1000
TZOFFSETTO:+1000
TZNAME:AEST
DTSTART:20200101T000000
END:STANDARD
END:VTIMEZONE
BEGIN:VEVENT
DTSTART;TZID=Australia/Brisbane:20200229T183000
DTEND;TZID=Australia/Brisbane:20200229T220000
DTSTAMP:20200301T171807
CREATED:20190704T045121Z
LAST-MODIFIED:20200229T045822Z
UID:9025-1583001000-1583013600@www.wildboysafloatbrisbane.com.au
SUMMARY:Elisha's Hens night 290201
DESCRIPTION: \nInfo Pack SATURDAY Night _2019 \nTickets available until Friday 10th January 2020 \n
URL:https://www.wildboysafloatbrisbane.com.au/event/elishas-hens-night/
LOCATION:Pontoon A Southbank Parklands\, River Outlook Pontoon\, Parkland Blvd\, Brisbane City QLD 4000\, brisbane\, queensland\, 4000\, Australia
ORGANIZER;CN="Kerry%20Clowes":MAILTO:kerryannclowes@gmail.com
END:VEVENT
BEGIN:VEVENT
DTSTART;TZID=Australia/Brisbane:20200229T183000
DTEND;TZID=Australia/Brisbane:20200229T220000
DTSTAMP:20200301T171807
CREATED:20190828T234311Z
LAST-MODIFIED:20200217T085923Z
UID:9930-1583001000-1583013600@www.wildboysafloatbrisbane.com.au
SUMMARY:Jade Hurrell  290202
DESCRIPTION: \nInfo Pack SATURDAY Night _2019 \nTickets available until Friday 10th January 2020 \n
URL:https://www.wildboysafloatbrisbane.com.au/event/jade-hurrell-290202/
LOCATION:Pontoon A Southbank Parklands\, River Outlook Pontoon\, Parkland Blvd\, Brisbane City QLD 4000\, brisbane\, queensland\, 4000\, Australia
END:VEVENT
BEGIN:VEVENT
DTSTART;TZID=Australia/Brisbane:20200229T183000
DTEND;TZID=Australia/Brisbane:20200229T220000
DTSTAMP:20200301T171807
CREATED:20191018T043910Z
LAST-MODIFIED:20191018T044343Z
UID:10385-1583001000-1583013600@www.wildboysafloatbrisbane.com.au
SUMMARY:February 29 cruise tickets now on sale
DESCRIPTION: \nInfo Pack SATURDAY Night _2019 \n  \n
URL:https://www.wildboysafloatbrisbane.com.au/event/february-29-cruise-tickets-now-on-sale/
LOCATION:Pontoon A Southbank Parklands\, River Outlook Pontoon\, Parkland Blvd\, Brisbane City QLD 4000\, brisbane\, queensland\, 4000\, Australia
ORGANIZER;CN="wild%20boys%20afloat":MAILTO:info@wildboysafloat.com.au
END:VEVENT
BEGIN:VEVENT
DTSTART;TZID=Australia/Brisbane:20200229T183000
DTEND;TZID=Australia/Brisbane:20200229T220000
DTSTAMP:20200301T171807
CREATED:20191218T074216Z
LAST-MODIFIED:20191218T232254Z
UID:10824-1583001000-1583013600@www.wildboysafloatbrisbane.com.au
SUMMARY:Wild Boys Afloat Laura's Hens 290203
DESCRIPTION: \nInfo Pack SATURDAY Night _2019 \n
URL:https://www.wildboysafloatbrisbane.com.au/event/wild-boys-afloat-lauras-hens-290203/
LOCATION:Pontoon A Southbank Parklands\, River Outlook Pontoon\, Parkland Blvd\, Brisbane City QLD 4000\, brisbane\, queensland\, 4000\, Australia
ORGANIZER;CN="wild%20boys%20afloat":MAILTO:info@wildboysafloat.com.au
END:VEVENT
BEGIN:VEVENT
DTSTART;TZID=Australia/Brisbane:20200229T183000
DTEND;TZID=Australia/Brisbane:20200229T220000
DTSTAMP:20200301T171807
CREATED:20191223T014614Z
LAST-MODIFIED:20191223T014614Z
UID:10857-1583001000-1583013600@www.wildboysafloatbrisbane.com.au
SUMMARY:Katrina\,s Group 290204
DESCRIPTION: \nInfo Pack SATURDAY Night _2019 \n
URL:https://www.wildboysafloatbrisbane.com.au/event/katrinas-group-290204/
LOCATION:Pontoon A Southbank Parklands\, River Outlook Pontoon\, Parkland Blvd\, Brisbane City QLD 4000\, brisbane\, queensland\, 4000\, Australia
ORGANIZER;CN="wild%20boys%20afloat":MAILTO:info@wildboysafloat.com.au
END:VEVENT
BEGIN:VEVENT
DTSTART;TZID=Australia/Brisbane:20200229T183000
DTEND;TZID=Australia/Brisbane:20200229T220000
DTSTAMP:20200301T171807
CREATED:20200103T064559Z
LAST-MODIFIED:20200103T064559Z
UID:10932-1583001000-1583013600@www.wildboysafloatbrisbane.com.au
SUMMARY:Wild boys afloat Jess Stones Hens. 290205
DESCRIPTION: \nInfo Pack SATURDAY Night _2019 \n
URL:https://www.wildboysafloatbrisbane.com.au/event/wild-boys-afloat-jess-stones-hens-290205/
LOCATION:Pontoon A Southbank Parklands\, River Outlook Pontoon\, Parkland Blvd\, Brisbane City QLD 4000\, brisbane\, queensland\, 4000\, Australia
ORGANIZER;CN="wild%20boys%20afloat":MAILTO:info@wildboysafloat.com.au
END:VEVENT
BEGIN:VEVENT
DTSTART;TZID=Australia/Brisbane:20200229T183000
DTEND;TZID=Australia/Brisbane:20200229T220000
DTSTAMP:20200301T171807
CREATED:20200107T003057Z
LAST-MODIFIED:20200225T094619Z
UID:10963-1583001000-1583013600@www.wildboysafloatbrisbane.com.au
SUMMARY:Wild boys afloat Tiff's Hens Night 290206
DESCRIPTION: \nInfo Pack SATURDAY Night _2019 \n
URL:https://www.wildboysafloatbrisbane.com.au/event/wild-boys-afloat-template-staceys-group-290206/
LOCATION:Pontoon A Southbank Parklands\, River Outlook Pontoon\, Parkland Blvd\, Brisbane City QLD 4000\, brisbane\, queensland\, 4000\, Australia
ORGANIZER;CN="wild%20boys%20afloat":MAILTO:info@wildboysafloat.com.au
END:VEVENT
END:VCALENDAR