BEGIN:VCALENDAR
VERSION:2.0
PRODID:-//Wildboys Afloat Brisbane - ECPv5.0.2.1//NONSGML v1.0//EN
CALSCALE:GREGORIAN
METHOD:PUBLISH
X-WR-CALNAME:Wildboys Afloat Brisbane
X-ORIGINAL-URL:https://www.wildboysafloatbrisbane.com.au
X-WR-CALDESC:Events for Wildboys Afloat Brisbane
BEGIN:VTIMEZONE
TZID:Australia/Brisbane
BEGIN:STANDARD
TZOFFSETFROM:+1000
TZOFFSETTO:+1000
TZNAME:AEST
DTSTART:20200101T000000
END:STANDARD
END:VTIMEZONE
BEGIN:VEVENT
DTSTART;TZID=Australia/Brisbane:20200307T183000
DTEND;TZID=Australia/Brisbane:20200307T220000
DTSTAMP:20200301T174805
CREATED:20191018T044805Z
LAST-MODIFIED:20191018T044805Z
UID:10392-1583605800-1583618400@www.wildboysafloatbrisbane.com.au
SUMMARY:March 7 Tickets still available
DESCRIPTION: \nInfo Pack SATURDAY Night _2019 \nPlease let us know if you would like a cart set up for your group \n
URL:https://www.wildboysafloatbrisbane.com.au/event/march-7-tickets-still-available/
LOCATION:Pontoon A Southbank Parklands\, River Outlook Pontoon\, Parkland Blvd\, Brisbane City QLD 4000\, brisbane\, queensland\, 4000\, Australia
ORGANIZER;CN="wild%20boys%20afloat":MAILTO:info@wildboysafloat.com.au
END:VEVENT
BEGIN:VEVENT
DTSTART;TZID=Australia/Brisbane:20200307T183000
DTEND;TZID=Australia/Brisbane:20200307T220000
DTSTAMP:20200301T174805
CREATED:20200102T215641Z
LAST-MODIFIED:20200102T215641Z
UID:10914-1583605800-1583618400@www.wildboysafloatbrisbane.com.au
SUMMARY:Wild boys afloat Jade's group 070301
DESCRIPTION: \nInfo Pack SATURDAY Night _2019 \n
URL:https://www.wildboysafloatbrisbane.com.au/event/wild-boys-afloat-jades-group-070301/
LOCATION:Pontoon A Southbank Parklands\, River Outlook Pontoon\, Parkland Blvd\, Brisbane City QLD 4000\, brisbane\, queensland\, 4000\, Australia
ORGANIZER;CN="wild%20boys%20afloat":MAILTO:info@wildboysafloat.com.au
END:VEVENT
BEGIN:VEVENT
DTSTART;TZID=Australia/Brisbane:20200307T183000
DTEND;TZID=Australia/Brisbane:20200307T220000
DTSTAMP:20200301T174805
CREATED:20200108T221528Z
LAST-MODIFIED:20200108T221528Z
UID:11014-1583605800-1583618400@www.wildboysafloatbrisbane.com.au
SUMMARY:Wild boys afloat Adeles hens night 070302
DESCRIPTION: \nInfo Pack SATURDAY Night _2019 \n
URL:https://www.wildboysafloatbrisbane.com.au/event/wild-boys-afloat-adeles-hens-night-070302/
LOCATION:Pontoon A Southbank Parklands\, River Outlook Pontoon\, Parkland Blvd\, Brisbane City QLD 4000\, brisbane\, queensland\, 4000\, Australia
ORGANIZER;CN="wild%20boys%20afloat":MAILTO:info@wildboysafloat.com.au
END:VEVENT
BEGIN:VEVENT
DTSTART;TZID=Australia/Brisbane:20200307T183000
DTEND;TZID=Australia/Brisbane:20200307T220000
DTSTAMP:20200301T174805
CREATED:20200110T215409Z
LAST-MODIFIED:20200110T215409Z
UID:11055-1583605800-1583618400@www.wildboysafloatbrisbane.com.au
SUMMARY:Wild boys afloat Alyssa's Birthday 070303
DESCRIPTION: \nInfo Pack SATURDAY Night _2019 \n
URL:https://www.wildboysafloatbrisbane.com.au/event/wild-boys-afloat-alyssas-birthday-070303/
LOCATION:Pontoon A Southbank Parklands\, River Outlook Pontoon\, Parkland Blvd\, Brisbane City QLD 4000\, brisbane\, queensland\, 4000\, Australia
ORGANIZER;CN="wild%20boys%20afloat":MAILTO:info@wildboysafloat.com.au
END:VEVENT
BEGIN:VEVENT
DTSTART;TZID=Australia/Brisbane:20200307T183000
DTEND;TZID=Australia/Brisbane:20200307T220000
DTSTAMP:20200301T174805
CREATED:20200121T094900Z
LAST-MODIFIED:20200121T094900Z
UID:11143-1583605800-1583618400@www.wildboysafloatbrisbane.com.au
SUMMARY:Wild boys afloat Kaitlyn's Hens 070304
DESCRIPTION: \nInfo Pack SATURDAY Night _2019 \n
URL:https://www.wildboysafloatbrisbane.com.au/event/wild-boys-afloat-kaitlyns-hens-070304/
LOCATION:Pontoon A Southbank Parklands\, River Outlook Pontoon\, Parkland Blvd\, Brisbane City QLD 4000\, brisbane\, queensland\, 4000\, Australia
ORGANIZER;CN="wild%20boys%20afloat":MAILTO:info@wildboysafloat.com.au
END:VEVENT
BEGIN:VEVENT
DTSTART;TZID=Australia/Brisbane:20200307T183000
DTEND;TZID=Australia/Brisbane:20200307T220000
DTSTAMP:20200301T174805
CREATED:20200217T233407Z
LAST-MODIFIED:20200223T233539Z
UID:11517-1583605800-1583618400@www.wildboysafloatbrisbane.com.au
SUMMARY:Wildboys Afloat Ellen & Renee's Birthday 070305
DESCRIPTION: \nInfo Pack SATURDAY Night _2019 \n
URL:https://www.wildboysafloatbrisbane.com.au/event/wildboys-afloat-ellen-renees-birthday/
LOCATION:Pontoon A Southbank Parklands\, River Outlook Pontoon\, Parkland Blvd\, Brisbane City QLD 4000\, brisbane\, queensland\, 4000\, Australia
ORGANIZER;CN="wild%20boys%20afloat":MAILTO:info@wildboysafloat.com.au
END:VEVENT
BEGIN:VEVENT
DTSTART;TZID=Australia/Brisbane:20200307T183000
DTEND;TZID=Australia/Brisbane:20200307T220000
DTSTAMP:20200301T174805
CREATED:20200224T000952Z
LAST-MODIFIED:20200224T021417Z
UID:11636-1583605800-1583618400@www.wildboysafloatbrisbane.com.au
SUMMARY:Wildboys Afloat Jade 070306
DESCRIPTION: \nInfo Pack SATURDAY Night _2019 \n
URL:https://www.wildboysafloatbrisbane.com.au/event/wildboys-afloat-jade-moffat-070306/
LOCATION:Pontoon A Southbank Parklands\, River Outlook Pontoon\, Parkland Blvd\, Brisbane City QLD 4000\, brisbane\, queensland\, 4000\, Australia
ORGANIZER;CN="wild%20boys%20afloat":MAILTO:info@wildboysafloat.com.au
END:VEVENT
END:VCALENDAR